BEGIN:VCALENDAR
VERSION:2.0
PRODID:-//StartUp Vegas - ECPv6.8.1//NONSGML v1.0//EN
CALSCALE:GREGORIAN
METHOD:PUBLISH
X-ORIGINAL-URL:https://startup.vegas
X-WR-CALDESC:Events for StartUp Vegas
REFRESH-INTERVAL;VALUE=DURATION:PT1H
X-Robots-Tag:noindex
X-PUBLISHED-TTL:PT1H
BEGIN:VTIMEZONE
TZID:America/Los_Angeles
BEGIN:DAYLIGHT
TZOFFSETFROM:-0800
TZOFFSETTO:-0700
TZNAME:PDT
DTSTART:20220313T100000
END:DAYLIGHT
BEGIN:STANDARD
TZOFFSETFROM:-0700
TZOFFSETTO:-0800
TZNAME:PST
DTSTART:20221106T090000
END:STANDARD
END:VTIMEZONE
BEGIN:VEVENT
DTSTART;TZID=America/Los_Angeles:20220323T100000
DTEND;TZID=America/Los_Angeles:20220323T170000
DTSTAMP:20260420T224555
CREATED:20211218T060717Z
LAST-MODIFIED:20220224T204153Z
UID:1563-1648029600-1648054800@startup.vegas
SUMMARY:StartUp Vegas LinkUp: Co-Working & Networking Day
DESCRIPTION:LinkUp is a monthly opportunity for local startup founders and entrepreneurs to gather\, collaborate\, and work together in a community workspace setting. The event runs from 10:00 AM – 5:00 PM\, and participants can stay all day or come and go as they choose. \nThere will be an open area to work\, private booths for calls\, and a dedicated conference room to meet other founders/entrepreneurs. The goal is to bring community members together in an informal atmosphere to collaborate\, learn\, work together\, and drive personal\, team and business development through support from fellow entrepreneurs. \nNew programming is being added to the monthly LinkUp\, Lunch and Learn. This is an opportunity to hear from a speaker\, participate in a think tank style group discussion\, or participate in other programming during lunch. There are so many incredible speakers and trainers in Las Vegas\, and the Lunch and Learn will be used to highlight their expertise and bring valuable programming to participants. This is an optional component to the day\, but participation is obviously encouraged.  \nRSVP
URL:https://startup.vegas/event/startup-vegas-linkup-co-working-networking-day-17/
LOCATION:WeWork Office Space & Coworking\, 6543 S Las Vegas Blvd\, Las Vegas\, NV\, 89119
ATTACH;FMTTYPE=image/png:https://startup.vegas/wp-content/uploads/2021/09/Startup-Vegas-Brand-Workbook-2.png
END:VEVENT
BEGIN:VEVENT
DTSTART;TZID=America/Los_Angeles:20220325T180000
DTEND;TZID=America/Los_Angeles:20220325T203000
DTSTAMP:20260420T224555
CREATED:20211218T061944Z
LAST-MODIFIED:20220324T052229Z
UID:1571-1648231200-1648240200@startup.vegas
SUMMARY:StartUp Vegas LevelUp: A Night to Elevate StartUps
DESCRIPTION:LevelUp is an event for people that are interested in technology\, startups\, entrepreneurship\, community building\, and networking in the Las Vegas Valley. LevelUp gives an opportunity to startup founders to present their companies to the community with immediate feedback\, support\, and mentorship from a panel of successful investors\, entrepreneurs and other ecosystem leaders. The goal is to elevate each participant to the next level. \nFor 90 minutes the panel will hear presentations from local startups and then give feedback\, ask questions\, guide the founders to immediate next steps and even possibly invest in their business. \nIn addition to watching presentations\, attendees will have the opportunity to mingle with other participants. It’s an evening to learn\, connect\, support\, share\, mentor\, and inspire one another. \nLevelUp is free and open to anyone interested in entrepreneurship regardless of their background or the stage of their company. We aim to facilitate a friendly and encouraging environment. \nThis event will be held periodically and will help grow the ecosystem by bringing the entrepreneur communities together to share entrepreneurial excitement\, energy\, and encouragement. \nRSVP
URL:https://startup.vegas/event/startup-vegas-levelup-a-night-to-elevate-startups-2/
LOCATION:WeWork Office Space & Coworking\, 6543 S Las Vegas Blvd\, Las Vegas\, NV\, 89119
ATTACH;FMTTYPE=image/png:https://startup.vegas/wp-content/uploads/2021/09/Startup-Vegas-Brand-Workbook.png
END:VEVENT
END:VCALENDAR