BEGIN:VCALENDAR
VERSION:2.0
PRODID:-//StartUp Vegas - ECPv6.8.1//NONSGML v1.0//EN
CALSCALE:GREGORIAN
METHOD:PUBLISH
X-WR-CALNAME:StartUp Vegas
X-ORIGINAL-URL:https://startup.vegas
X-WR-CALDESC:Events for StartUp Vegas
REFRESH-INTERVAL;VALUE=DURATION:PT1H
X-Robots-Tag:noindex
X-PUBLISHED-TTL:PT1H
BEGIN:VTIMEZONE
TZID:America/Los_Angeles
BEGIN:DAYLIGHT
TZOFFSETFROM:-0800
TZOFFSETTO:-0700
TZNAME:PDT
DTSTART:20210314T100000
END:DAYLIGHT
BEGIN:STANDARD
TZOFFSETFROM:-0700
TZOFFSETTO:-0800
TZNAME:PST
DTSTART:20211107T090000
END:STANDARD
END:VTIMEZONE
BEGIN:VEVENT
DTSTART;TZID=America/Los_Angeles:20211209T100000
DTEND;TZID=America/Los_Angeles:20211209T150000
DTSTAMP:20260421T040411
CREATED:20211016T063356Z
LAST-MODIFIED:20211118T213128Z
UID:534-1639044000-1639062000@startup.vegas
SUMMARY:StartUp Vegas SyncUp: Group Mentorship Day
DESCRIPTION:SyncUp is an organized opportunity for group mentorship. Headed by a facilitator\, groups of 4-6 founders spend the day learning about each other\, their companies\, and some of the challenges each person is facing. This is an opportunity for founders to be vulnerable in a non-judgemental space with a diversity of thinking as the group does a deep dive into a problem or road block that shared experiences and groupthink can help clear. \nThe event will take place from 10:00 AM – 3:00 PM with a break for lunch. Each cohort will have access to a white board and other supplies to aid in the brainstorming process. \nThe goal of the event is to give each founder the chance to share\, get insight from other participants\, and also give feedback when the rest of the group presents. The framework provides guidelines and tools without prescribing an exact curriculum\, thus providing flexibility within the mentoring groups\, allowing the individual to set their own goals and work towards the solutions they need. \nRSVP
URL:https://startup.vegas/event/startup-vegas-syncup-group-mentorship-day-2/
LOCATION:International Innovation Center\, 300 S. 4th Street Suite 180\, Las Vegas\, NV\, 89101\, United States
ATTACH;FMTTYPE=image/png:https://startup.vegas/wp-content/uploads/2021/09/Startup-Vegas-Brand-Workbook-1.png
END:VEVENT
END:VCALENDAR